Package: MMDiff2 Version: 1.37.1 Command: /Library/Frameworks/R.framework/Resources/bin/R CMD INSTALL MMDiff2 StartedAt: 2025-10-24 15:36:23 -0400 (Fri, 24 Oct 2025) EndedAt: 2025-10-24 15:37:14 -0400 (Fri, 24 Oct 2025) EllapsedTime: 50.9 seconds RetCode: 0 Status: OK