Package: MMDiff2 Version: 1.37.1 Command: /Library/Frameworks/R.framework/Resources/bin/R CMD build --keep-empty-dirs --no-resave-data MMDiff2 StartedAt: 2025-10-24 17:50:33 -0400 (Fri, 24 Oct 2025) EndedAt: 2025-10-24 17:52:36 -0400 (Fri, 24 Oct 2025) EllapsedTime: 123.2 seconds RetCode: 0 Status: OK PackageFile: MMDiff2_1.37.1.tar.gz PackageFileSize: 2.848 MiB