Package: MMDiff2 Version: 1.37.1 Command: rm -rf MMDiff2.buildbin-libdir && mkdir MMDiff2.buildbin-libdir && /Users/biocbuild/BBS/utils/build-universal.sh MMDiff2_1.37.1.tar.gz /Library/Frameworks/R.framework/Resources/bin/R MMDiff2.buildbin-libdir StartedAt: 2025-10-25 01:50:33 -0400 (Sat, 25 Oct 2025) EndedAt: 2025-10-25 01:51:28 -0400 (Sat, 25 Oct 2025) EllapsedTime: 55.1 seconds RetCode: 0 Status: OK PackageFile: MMDiff2_1.37.1.tgz PackageFileSize: 3.056 MiB