Package: MLSeq Version: 2.27.0 Command: /home/biocbuild/bbs-3.22-bioc/R/bin/R CMD INSTALL MLSeq StartedAt: 2025-10-27 15:24:37 -0400 (Mon, 27 Oct 2025) EndedAt: 2025-10-27 15:25:11 -0400 (Mon, 27 Oct 2025) EllapsedTime: 34.1 seconds RetCode: 0 Status: OK