Package: MLSeq Version: 2.27.0 Command: /Library/Frameworks/R.framework/Resources/bin/R CMD INSTALL MLSeq StartedAt: 2025-10-27 15:19:52 -0400 (Mon, 27 Oct 2025) EndedAt: 2025-10-27 15:20:38 -0400 (Mon, 27 Oct 2025) EllapsedTime: 46.1 seconds RetCode: 0 Status: OK