Package: MLSeq Version: 2.27.0 Command: rm -rf MLSeq.buildbin-libdir && mkdir MLSeq.buildbin-libdir && /Users/biocbuild/BBS/utils/build-universal.sh MLSeq_2.27.0.tar.gz /Library/Frameworks/R.framework/Resources/bin/R MLSeq.buildbin-libdir StartedAt: 2025-10-25 01:50:33 -0400 (Sat, 25 Oct 2025) EndedAt: 2025-10-25 01:51:22 -0400 (Sat, 25 Oct 2025) EllapsedTime: 49.4 seconds RetCode: 0 Status: OK PackageFile: MLSeq_2.27.0.tgz PackageFileSize: 1.067 MiB