Package: MLSeq Version: 2.27.0 Command: /Library/Frameworks/R.framework/Resources/bin/R CMD build --keep-empty-dirs --no-resave-data MLSeq StartedAt: 2025-10-24 17:04:27 -0400 (Fri, 24 Oct 2025) EndedAt: 2025-10-24 17:05:13 -0400 (Fri, 24 Oct 2025) EllapsedTime: 45.5 seconds RetCode: 0 Status: OK PackageFile: MLSeq_2.27.0.tar.gz PackageFileSize: 598.7 KiB