Package: MLP Version: 1.57.0 Command: /home/biocbuild/bbs-3.22-bioc/R/bin/R CMD INSTALL MLP StartedAt: 2025-10-24 15:42:18 -0400 (Fri, 24 Oct 2025) EndedAt: 2025-10-24 15:42:29 -0400 (Fri, 24 Oct 2025) EllapsedTime: 11.5 seconds RetCode: 0 Status: OK