Package: MLInterfaces Version: 1.89.2 Command: /home/biocbuild/bbs-3.22-bioc/R/bin/R CMD check --install=check:MLInterfaces.install-out.txt --library=/home/biocbuild/bbs-3.22-bioc/R/site-library --timings MLInterfaces_1.89.2.tar.gz StartedAt: 2025-10-25 01:40:08 -0400 (Sat, 25 Oct 2025) EndedAt: 2025-10-25 01:44:35 -0400 (Sat, 25 Oct 2025) EllapsedTime: 267.2 seconds RetCode: 0 Status: WARNINGS CheckDir: MLInterfaces.Rcheck Warnings: 1