Package: MLInterfaces Version: 1.89.2 Command: /Library/Frameworks/R.framework/Resources/bin/R CMD INSTALL MLInterfaces StartedAt: 2025-10-24 15:35:06 -0400 (Fri, 24 Oct 2025) EndedAt: 2025-10-24 15:35:48 -0400 (Fri, 24 Oct 2025) EllapsedTime: 41.7 seconds RetCode: 0 Status: OK