Package: MLInterfaces Version: 1.89.2 Command: /Library/Frameworks/R.framework/Resources/bin/R CMD build --keep-empty-dirs --no-resave-data MLInterfaces StartedAt: 2025-10-24 17:50:21 -0400 (Fri, 24 Oct 2025) EndedAt: 2025-10-24 17:51:40 -0400 (Fri, 24 Oct 2025) EllapsedTime: 79.9 seconds RetCode: 0 Status: OK PackageFile: MLInterfaces_1.89.2.tar.gz PackageFileSize: 2.806 MiB