Package: MLInterfaces Version: 1.89.2 Command: /Library/Frameworks/R.framework/Resources/bin/R CMD INSTALL MLInterfaces StartedAt: 2025-10-24 15:15:38 -0400 (Fri, 24 Oct 2025) EndedAt: 2025-10-24 15:15:51 -0400 (Fri, 24 Oct 2025) EllapsedTime: 12.6 seconds RetCode: 0 Status: OK