Package: MLInterfaces Version: 1.89.2 Command: rm -rf MLInterfaces.buildbin-libdir && mkdir MLInterfaces.buildbin-libdir && /Users/biocbuild/BBS/utils/build-universal.sh MLInterfaces_1.89.2.tar.gz /Library/Frameworks/R.framework/Resources/bin/R MLInterfaces.buildbin-libdir StartedAt: 2025-10-24 23:10:23 -0400 (Fri, 24 Oct 2025) EndedAt: 2025-10-24 23:10:37 -0400 (Fri, 24 Oct 2025) EllapsedTime: 13.2 seconds RetCode: 0 Status: OK PackageFile: MLInterfaces_1.89.2.tgz PackageFileSize: 3.218 MiB