Package: MIRA Version: 1.32.0 Command: /home/biocbuild/bbs-3.22-bioc/R/bin/R CMD INSTALL MIRA StartedAt: 2025-11-06 15:33:24 -0500 (Thu, 06 Nov 2025) EndedAt: 2025-11-06 15:34:05 -0500 (Thu, 06 Nov 2025) EllapsedTime: 40.3 seconds RetCode: 0 Status: OK