Package: MIRA Version: 1.32.0 Command: /home/biocbuild/bbs-3.22-bioc/R/bin/R CMD build --keep-empty-dirs --no-resave-data --md5 MIRA StartedAt: 2025-11-06 18:42:28 -0500 (Thu, 06 Nov 2025) EndedAt: 2025-11-06 18:43:32 -0500 (Thu, 06 Nov 2025) EllapsedTime: 64.0 seconds RetCode: 0 Status: OK PackageFile: MIRA_1.32.0.tar.gz PackageFileSize: 2.506 MiB