Package: MICSQTL Version: 1.7.0 Command: /home/biocbuild/bbs-3.22-bioc/R/bin/R CMD INSTALL MICSQTL StartedAt: 2025-10-24 15:44:47 -0400 (Fri, 24 Oct 2025) EndedAt: 2025-10-24 15:45:13 -0400 (Fri, 24 Oct 2025) EllapsedTime: 26.5 seconds RetCode: 0 Status: OK