Package: MICSQTL Version: 1.7.0 Command: /home/biocbuild/bbs-3.22-bioc/R/bin/R CMD build --keep-empty-dirs --no-resave-data --md5 MICSQTL StartedAt: 2025-10-27 18:41:28 -0400 (Mon, 27 Oct 2025) EndedAt: 2025-10-27 18:42:11 -0400 (Mon, 27 Oct 2025) EllapsedTime: 43.0 seconds RetCode: 0 Status: OK PackageFile: MICSQTL_1.7.0.tar.gz PackageFileSize: 3.086 MiB