Package: MICSQTL Version: 1.8.0 Command: /Library/Frameworks/R.framework/Resources/bin/R CMD INSTALL MICSQTL StartedAt: 2025-10-31 15:22:47 -0400 (Fri, 31 Oct 2025) EndedAt: 2025-10-31 15:22:58 -0400 (Fri, 31 Oct 2025) EllapsedTime: 10.8 seconds RetCode: 0 Status: OK