Package: MICSQTL Version: 1.8.0 Command: /Library/Frameworks/R.framework/Resources/bin/R CMD build --keep-empty-dirs --no-resave-data MICSQTL StartedAt: 2025-10-30 17:01:18 -0400 (Thu, 30 Oct 2025) EndedAt: 2025-10-30 17:01:41 -0400 (Thu, 30 Oct 2025) EllapsedTime: 23.3 seconds RetCode: 0 Status: OK PackageFile: MICSQTL_1.8.0.tar.gz PackageFileSize: 3.085 MiB