Package: MICSQTL Version: 1.8.0 Command: rm -rf MICSQTL.buildbin-libdir && mkdir MICSQTL.buildbin-libdir && /Users/biocbuild/BBS/utils/build-universal.sh MICSQTL_1.8.0.tar.gz /Library/Frameworks/R.framework/Resources/bin/R MICSQTL.buildbin-libdir StartedAt: 2025-11-02 23:11:52 -0500 (Sun, 02 Nov 2025) EndedAt: 2025-11-02 23:12:04 -0500 (Sun, 02 Nov 2025) EllapsedTime: 12.2 seconds RetCode: 0 Status: OK PackageFile: MICSQTL_1.8.0.tgz PackageFileSize: 2.644 MiB