Package: MGnifyR Version: 1.5.1 Command: /home/biocbuild/bbs-3.22-bioc/R/bin/R CMD INSTALL MGnifyR StartedAt: 2025-10-24 16:08:28 -0400 (Fri, 24 Oct 2025) EndedAt: 2025-10-24 16:09:09 -0400 (Fri, 24 Oct 2025) EllapsedTime: 40.4 seconds RetCode: 0 Status: OK