Package: MGnifyR Version: 1.5.1 Command: /home/biocbuild/bbs-3.22-bioc/R/bin/R CMD build --keep-empty-dirs --no-resave-data --md5 MGnifyR StartedAt: 2025-10-24 18:49:10 -0400 (Fri, 24 Oct 2025) EndedAt: 2025-10-24 18:50:21 -0400 (Fri, 24 Oct 2025) EllapsedTime: 71.1 seconds RetCode: 0 Status: OK PackageFile: MGnifyR_1.5.1.tar.gz PackageFileSize: 4.325 MiB