Package: MGFM Version: 1.43.0 Command: /home/biocbuild/bbs-3.22-bioc/R/bin/R CMD build --keep-empty-dirs --no-resave-data --md5 MGFM StartedAt: 2025-10-24 18:48:57 -0400 (Fri, 24 Oct 2025) EndedAt: 2025-10-24 18:49:23 -0400 (Fri, 24 Oct 2025) EllapsedTime: 26.0 seconds RetCode: 0 Status: OK PackageFile: MGFM_1.43.0.tar.gz PackageFileSize: 3.492 MiB