Package: MEIGOR Version: 1.43.0 Command: /home/biocbuild/bbs-3.22-bioc/R/bin/R CMD INSTALL MEIGOR StartedAt: 2025-10-24 15:34:27 -0400 (Fri, 24 Oct 2025) EndedAt: 2025-10-24 15:34:38 -0400 (Fri, 24 Oct 2025) EllapsedTime: 10.2 seconds RetCode: 0 Status: OK