Package: MEDME Version: 1.70.0 Command: /home/biocbuild/bbs-3.22-bioc/R/bin/R CMD INSTALL MEDME StartedAt: 2025-11-20 16:24:03 -0500 (Thu, 20 Nov 2025) EndedAt: 2025-11-20 16:24:18 -0500 (Thu, 20 Nov 2025) EllapsedTime: 15.0 seconds RetCode: 0 Status: OK