Package: MEDME Version: 1.70.0 Command: /home/biocbuild/bbs-3.22-bioc/R/bin/R CMD build --keep-empty-dirs --no-resave-data --md5 MEDME StartedAt: 2025-11-20 19:21:04 -0500 (Thu, 20 Nov 2025) EndedAt: 2025-11-20 19:21:39 -0500 (Thu, 20 Nov 2025) EllapsedTime: 35.0 seconds RetCode: 0 Status: OK PackageFile: MEDME_1.70.0.tar.gz PackageFileSize: 449 KiB