Package: MEDIPS Version: 1.62.0 Command: /home/biocbuild/bbs-3.22-bioc/R/bin/R CMD INSTALL MEDIPS StartedAt: 2025-11-03 15:28:33 -0500 (Mon, 03 Nov 2025) EndedAt: 2025-11-03 15:29:14 -0500 (Mon, 03 Nov 2025) EllapsedTime: 40.0 seconds RetCode: 0 Status: OK