Package: MEB Version: 1.23.1 Command: /home/biocbuild/bbs-3.22-bioc/R/bin/R CMD build --keep-empty-dirs --no-resave-data --md5 MEB StartedAt: 2025-10-24 18:40:43 -0400 (Fri, 24 Oct 2025) EndedAt: 2025-10-24 18:41:28 -0400 (Fri, 24 Oct 2025) EllapsedTime: 45.0 seconds RetCode: 0 Status: OK PackageFile: MEB_1.23.1.tar.gz PackageFileSize: 1.021 MiB