Package: MEAL Version: 1.39.0 Command: /home/biocbuild/bbs-3.22-bioc/R/bin/R CMD INSTALL MEAL StartedAt: 2025-10-24 16:16:12 -0400 (Fri, 24 Oct 2025) EndedAt: 2025-10-24 16:16:53 -0400 (Fri, 24 Oct 2025) EllapsedTime: 41.5 seconds RetCode: 0 Status: OK