Package: MDTS Version: 1.30.0 Command: /home/biocbuild/bbs-3.22-bioc/R/bin/R CMD INSTALL MDTS StartedAt: 2025-10-31 15:35:09 -0400 (Fri, 31 Oct 2025) EndedAt: 2025-10-31 15:35:37 -0400 (Fri, 31 Oct 2025) EllapsedTime: 28.3 seconds RetCode: 0 Status: OK