Package: MDTS Version: 1.30.0 Command: /home/biocbuild/bbs-3.22-bioc/R/bin/R CMD build --keep-empty-dirs --no-resave-data --md5 MDTS StartedAt: 2025-10-31 18:40:36 -0400 (Fri, 31 Oct 2025) EndedAt: 2025-10-31 18:41:14 -0400 (Fri, 31 Oct 2025) EllapsedTime: 38.0 seconds RetCode: 0 Status: OK PackageFile: MDTS_1.30.0.tar.gz PackageFileSize: 32.97 KiB