Package: MBECS Version: 1.13.0 Command: /home/biocbuild/bbs-3.22-bioc/R/bin/R CMD INSTALL MBECS StartedAt: 2025-10-24 15:39:22 -0400 (Fri, 24 Oct 2025) EndedAt: 2025-10-24 15:39:44 -0400 (Fri, 24 Oct 2025) EllapsedTime: 21.4 seconds RetCode: 0 Status: OK