Package: MBECS Version: 1.14.0 Command: /home/biocbuild/bbs-3.22-bioc/R/bin/R CMD check --install=check:MBECS.install-out.txt --library=/home/biocbuild/bbs-3.22-bioc/R/site-library --timings MBECS_1.14.0.tar.gz StartedAt: 2025-10-31 01:04:14 -0400 (Fri, 31 Oct 2025) EndedAt: 2025-10-31 01:09:23 -0400 (Fri, 31 Oct 2025) EllapsedTime: 309.3 seconds RetCode: 0 Status: OK CheckDir: MBECS.Rcheck Warnings: 0