Package: MBECS Version: 1.13.0 Command: /Library/Frameworks/R.framework/Resources/bin/R CMD INSTALL MBECS StartedAt: 2025-10-24 15:35:28 -0400 (Fri, 24 Oct 2025) EndedAt: 2025-10-24 15:35:58 -0400 (Fri, 24 Oct 2025) EllapsedTime: 29.4 seconds RetCode: 0 Status: OK