Package: MBECS Version: 1.13.0 Command: /Library/Frameworks/R.framework/Resources/bin/R CMD INSTALL MBECS StartedAt: 2025-10-24 15:12:19 -0400 (Fri, 24 Oct 2025) EndedAt: 2025-10-24 15:12:27 -0400 (Fri, 24 Oct 2025) EllapsedTime: 8.5 seconds RetCode: 0 Status: OK