Package: MBCB Version: 1.63.0 Command: /home/biocbuild/bbs-3.22-bioc/R/bin/R CMD build --keep-empty-dirs --no-resave-data --md5 MBCB StartedAt: 2025-10-24 18:38:58 -0400 (Fri, 24 Oct 2025) EndedAt: 2025-10-24 18:39:05 -0400 (Fri, 24 Oct 2025) EllapsedTime: 7.0 seconds RetCode: 0 Status: OK PackageFile: MBCB_1.63.0.tar.gz PackageFileSize: 411.1 KiB