Package: MBASED Version: 1.43.0 Command: /home/biocbuild/bbs-3.22-bioc/R/bin/R CMD INSTALL MBASED StartedAt: 2025-10-27 15:34:38 -0400 (Mon, 27 Oct 2025) EndedAt: 2025-10-27 15:35:00 -0400 (Mon, 27 Oct 2025) EllapsedTime: 21.8 seconds RetCode: 0 Status: OK