Package: MBASED Version: 1.43.0 Command: /home/biocbuild/bbs-3.22-bioc/R/bin/R CMD build --keep-empty-dirs --no-resave-data --md5 MBASED StartedAt: 2025-10-27 18:29:14 -0400 (Mon, 27 Oct 2025) EndedAt: 2025-10-27 18:31:00 -0400 (Mon, 27 Oct 2025) EllapsedTime: 106.1 seconds RetCode: 0 Status: OK PackageFile: MBASED_1.43.0.tar.gz PackageFileSize: 366.3 KiB