Package: MAST Version: 1.35.2 Command: /home/biocbuild/bbs-3.22-bioc/R/bin/R CMD build --keep-empty-dirs --no-resave-data --md5 MAST StartedAt: 2025-10-27 18:28:30 -0400 (Mon, 27 Oct 2025) EndedAt: 2025-10-27 18:32:52 -0400 (Mon, 27 Oct 2025) EllapsedTime: 262.2 seconds RetCode: 0 Status: OK PackageFile: MAST_1.35.2.tar.gz PackageFileSize: 7.255 MiB