Package: MAPFX Version: 1.6.0 Command: /home/biocbuild/bbs-3.22-bioc/R/bin/R CMD build --keep-empty-dirs --no-resave-data --md5 MAPFX StartedAt: 2025-11-06 18:26:31 -0500 (Thu, 06 Nov 2025) EndedAt: 2025-11-06 18:33:55 -0500 (Thu, 06 Nov 2025) EllapsedTime: 444.4 seconds RetCode: 0 Status: OK PackageFile: MAPFX_1.6.0.tar.gz PackageFileSize: 3.545 MiB