Package: MANOR Version: 1.81.0 Command: /home/biocbuild/bbs-3.22-bioc/R/bin/R CMD INSTALL MANOR StartedAt: 2025-10-24 15:13:15 -0400 (Fri, 24 Oct 2025) EndedAt: 2025-10-24 15:13:26 -0400 (Fri, 24 Oct 2025) EllapsedTime: 11.1 seconds RetCode: 0 Status: OK