Package: MAIT Version: 1.43.0 Command: /home/biocbuild/bbs-3.22-bioc/R/bin/R CMD INSTALL MAIT StartedAt: 2025-10-27 15:49:43 -0400 (Mon, 27 Oct 2025) EndedAt: 2025-10-27 15:50:35 -0400 (Mon, 27 Oct 2025) EllapsedTime: 51.6 seconds RetCode: 0 Status: OK