Package: MAIT Version: 1.43.0 Command: /home/biocbuild/bbs-3.22-bioc/R/bin/R CMD build --keep-empty-dirs --no-resave-data --md5 MAIT StartedAt: 2025-10-27 18:25:54 -0400 (Mon, 27 Oct 2025) EndedAt: 2025-10-27 18:28:38 -0400 (Mon, 27 Oct 2025) EllapsedTime: 164.1 seconds RetCode: 0 Status: OK PackageFile: MAIT_1.43.0.tar.gz PackageFileSize: 2.37 MiB