Package: MAI Version: 1.16.0 Command: /home/biocbuild/bbs-3.22-bioc/R/bin/R CMD INSTALL MAI StartedAt: 2025-11-03 15:31:44 -0500 (Mon, 03 Nov 2025) EndedAt: 2025-11-03 15:32:13 -0500 (Mon, 03 Nov 2025) EllapsedTime: 29.2 seconds RetCode: 0 Status: OK