Package: MAI Version: 1.16.0 Command: /home/biocbuild/bbs-3.22-bioc/R/bin/R CMD build --keep-empty-dirs --no-resave-data --md5 MAI StartedAt: 2025-11-03 18:27:32 -0500 (Mon, 03 Nov 2025) EndedAt: 2025-11-03 18:32:02 -0500 (Mon, 03 Nov 2025) EllapsedTime: 270.2 seconds RetCode: 0 Status: OK PackageFile: MAI_1.16.0.tar.gz PackageFileSize: 453.2 KiB