Package: MAGAR Version: 1.17.0 Command: /home/biocbuild/bbs-3.22-bioc/R/bin/R CMD INSTALL MAGAR StartedAt: 2025-10-24 16:12:35 -0400 (Fri, 24 Oct 2025) EndedAt: 2025-10-24 16:13:36 -0400 (Fri, 24 Oct 2025) EllapsedTime: 61.8 seconds RetCode: 0 Status: OK