Package: MACSr Version: 1.17.0 Command: /home/biocbuild/bbs-3.22-bioc/R/bin/R CMD INSTALL MACSr StartedAt: 2025-10-24 15:36:47 -0400 (Fri, 24 Oct 2025) EndedAt: 2025-10-24 15:37:02 -0400 (Fri, 24 Oct 2025) EllapsedTime: 14.9 seconds RetCode: 0 Status: OK