Package: MACSQuantifyR Version: 1.23.0 Command: /home/biocbuild/R/R/bin/R CMD INSTALL MACSQuantifyR StartedAt: 2025-10-23 20:29:13 -0000 (Thu, 23 Oct 2025) EndedAt: 2025-10-23 20:29:35 -0000 (Thu, 23 Oct 2025) EllapsedTime: 21.1 seconds RetCode: 0 Status: OK