Package: MACSQuantifyR Version: 1.23.0 Command: /home/biocbuild/R/R/bin/R CMD build --keep-empty-dirs --no-resave-data MACSQuantifyR StartedAt: 2025-10-21 00:51:28 -0000 (Tue, 21 Oct 2025) EndedAt: 2025-10-21 00:52:04 -0000 (Tue, 21 Oct 2025) EllapsedTime: 36.0 seconds RetCode: 0 Status: OK PackageFile: MACSQuantifyR_1.23.0.tar.gz PackageFileSize: 2.478 MiB