Package: MACSQuantifyR Version: 1.23.0 Command: /Library/Frameworks/R.framework/Resources/bin/R CMD build --keep-empty-dirs --no-resave-data MACSQuantifyR StartedAt: 2025-10-24 17:38:18 -0400 (Fri, 24 Oct 2025) EndedAt: 2025-10-24 17:38:52 -0400 (Fri, 24 Oct 2025) EllapsedTime: 34.3 seconds RetCode: 0 Status: OK PackageFile: MACSQuantifyR_1.23.0.tar.gz PackageFileSize: 4.417 MiB